BEGIN:VCALENDAR
VERSION:2.0
PRODID:-//Sunset Grooves - ECPv6.7.1//NONSGML v1.0//EN
CALSCALE:GREGORIAN
METHOD:PUBLISH
X-ORIGINAL-URL:https://sunsetgrooves.com
X-WR-CALDESC:Évènements pour Sunset Grooves
REFRESH-INTERVAL;VALUE=DURATION:PT1H
X-Robots-Tag:noindex
X-PUBLISHED-TTL:PT1H
BEGIN:VTIMEZONE
TZID:Europe/Zurich
BEGIN:DAYLIGHT
TZOFFSETFROM:+0100
TZOFFSETTO:+0200
TZNAME:CEST
DTSTART:20240331T010000
END:DAYLIGHT
BEGIN:STANDARD
TZOFFSETFROM:+0200
TZOFFSETTO:+0100
TZNAME:CET
DTSTART:20241027T010000
END:STANDARD
END:VTIMEZONE
BEGIN:VEVENT
DTSTART;TZID=Europe/Zurich:20241217T080000
DTEND;TZID=Europe/Zurich:20241217T170000
DTSTAMP:20260419T222407
CREATED:20241129T111616Z
LAST-MODIFIED:20241129T111616Z
UID:29575-1734422400-1734454800@sunsetgrooves.com
SUMMARY:date 5
DESCRIPTION:
URL:https://sunsetgrooves.com/event/date-5/
LOCATION:le Lieu\, rue de geneve\, lausanne\, Switzerland
CATEGORIES:Concert
ORGANIZER;CN="Sunset grooves":MAILTO:tonmail@gmail.com
END:VEVENT
END:VCALENDAR